BEGIN:VCALENDAR
VERSION:2.0
CALSCALE:GREGORIAN
PRODID:-//Diputació de Barcelona//DibaCMS//EN
BEGIN:VEVENT
UID:2417
DTSTAMP:20260422T095849
DTSTART:20211125T170000
DTEND:20211125T190000
SUMMARY:Mural per la visibilització i conscienciació de la violència de gènere
LOCATION:Carrer Major, 9 08279 Avinyó
METHOD:PUBLISH
X-WR-CALNAME:avinyo@avinyo.cat
X-WR-TIMEZONE:Europe/Madrid
DESCRIPTION:Activitat per a joves on es realitzarà un mural col·laboratiu amb l'objectiu de visibilitzar i conscienciar sobre la violència de gènere.

URI:https://www.avinyo.cat/actualitat/agenda/2417-mural-per-la-visibilitzacio-i-conscienciacio-de-la-violencia-de-genere.html
CLASS:PUBLIC
END:VEVENT
END:VCALENDAR
