BEGIN:VCALENDAR
VERSION:2.0
CALSCALE:GREGORIAN
PRODID:-//Diputació de Barcelona//DibaCMS//EN
BEGIN:VEVENT
UID:1691
DTSTAMP:20260422T132102
DTSTART:20200127T000000
DTEND:20200206T000000
SUMMARY:Exposició: "Menys plàstics, més vida"
LOCATION:Itinerant 
METHOD:PUBLISH
X-WR-CALNAME:avinyo@avinyo.cat
X-WR-TIMEZONE:Europe/Madrid
DESCRIPTION:Exposició sobre l’impacte dels plàstics al mar i com evitar-ho quan esdevenen residu.

URI:https://www.avinyo.cat/actualitat/agenda/exposicio-menys-plastics-mes-vida.html
CLASS:PUBLIC
END:VEVENT
END:VCALENDAR
